BEGIN:VCALENDAR
VERSION:2.0
PRODID:-//Windrush Bike Project - ECPv6.8.3//NONSGML v1.0//EN
CALSCALE:GREGORIAN
METHOD:PUBLISH
X-WR-CALNAME:Windrush Bike Project
X-ORIGINAL-URL:https://windrushbikeproject.uk
X-WR-CALDESC:Events for Windrush Bike Project
REFRESH-INTERVAL;VALUE=DURATION:PT1H
X-Robots-Tag:noindex
X-PUBLISHED-TTL:PT1H
BEGIN:VTIMEZONE
TZID:Europe/London
BEGIN:DAYLIGHT
TZOFFSETFROM:+0000
TZOFFSETTO:+0100
TZNAME:BST
DTSTART:20210328T010000
END:DAYLIGHT
BEGIN:STANDARD
TZOFFSETFROM:+0100
TZOFFSETTO:+0000
TZNAME:GMT
DTSTART:20211031T010000
END:STANDARD
BEGIN:DAYLIGHT
TZOFFSETFROM:+0000
TZOFFSETTO:+0100
TZNAME:BST
DTSTART:20220327T010000
END:DAYLIGHT
BEGIN:STANDARD
TZOFFSETFROM:+0100
TZOFFSETTO:+0000
TZNAME:GMT
DTSTART:20221030T010000
END:STANDARD
END:VTIMEZONE
BEGIN:VEVENT
DTSTART;TZID=Europe/London:20220120T173000
DTEND;TZID=Europe/London:20220120T190000
DTSTAMP:20260422T230648
CREATED:20220118T101900Z
LAST-MODIFIED:20220118T102643Z
UID:792-1642699800-1642705200@windrushbikeproject.uk
SUMMARY:Free 'pick and mix' maintenance - patch a puncture
DESCRIPTION:Fun and friendly drop-in evening sessions to keep you and your bike on the road.  This week we are patching punctures (we can also recap replacing an inner tube).
URL:https://windrushbikeproject.uk/event/free-pick-and-mix-basic-bike-maintenance/
LOCATION:Workshop\, 152B Corn Street\, Witney\, OX28 6BY\, United Kingdom
ATTACH;FMTTYPE=image/jpeg:https://windrushbikeproject.uk/wp-content/uploads/2021/01/WindrushProjectLadies_3530-copy.jpg
END:VEVENT
BEGIN:VEVENT
DTSTART;TZID=Europe/London:20210922T080000
DTEND;TZID=Europe/London:20210922T120000
DTSTAMP:20260422T230649
CREATED:20210827T175308Z
LAST-MODIFIED:20210827T175308Z
UID:653-1632297600-1632312000@windrushbikeproject.uk
SUMMARY:Car Free Day Buddy Ride
DESCRIPTION:Would you like to cycle but are nervous of traffic? Do you need help finding the best routes in and around Witney? \nOn Car Free Day 2021 we are providing cycling buddies for rides in and around Witney. Your buddy will be an experienced cyclist who knows your area\, can help you plan routes\, and build your confidence to make journeys by bike. \nOnce you have completed your ride Witney Town Council would like to offer you a free drink at the Corn Exchange to say thanks for making a cleaner and greener journey. We are also running a free Dr Bike event in the market square on 22nd September. \nOnce you have booked your place we will get in touch so that you can arrange to meet your cycling buddy.
URL:https://windrushbikeproject.uk/event/car-free-day-buddy-ride/
ATTACH;FMTTYPE=image/jpeg:https://windrushbikeproject.uk/wp-content/uploads/2021/08/PashleyBikeCornStreet.jpg
END:VEVENT
BEGIN:VEVENT
DTSTART;TZID=Europe/London:20210919T093000
DTEND;TZID=Europe/London:20210919T130000
DTSTAMP:20260422T230649
CREATED:20210827T104527Z
LAST-MODIFIED:20210827T105659Z
UID:634-1632043800-1632056400@windrushbikeproject.uk
SUMMARY:Potter to the Pottery
DESCRIPTION:Family bike ride on quiet roads and tracks to Aston Pottery for cake. \n  \nBook a place. \n  \nPlease bring yourselves\, your bikes\, money for cake and a spare inner tube. All children under 16 must be supervised by an adult.
URL:https://windrushbikeproject.uk/event/potter-to-the-pottery/
LOCATION:St Mary’s Church\, St Mary's Church\, Church Green\, Witney\, OX28 4AZ\, United Kingdom
ATTACH;FMTTYPE=image/jpeg:https://windrushbikeproject.uk/wp-content/uploads/2021/03/FamilyRide2017Group.jpeg
END:VEVENT
BEGIN:VEVENT
DTSTART;TZID=Europe/London:20210911T110000
DTEND;TZID=Europe/London:20210911T150000
DTSTAMP:20260422T230649
CREATED:20210827T100229Z
LAST-MODIFIED:20210827T165757Z
UID:612-1631358000-1631372400@windrushbikeproject.uk
SUMMARY:Bike Gymkhana
DESCRIPTION:We’ll be at Charlbury School Association’s Bike Gymkhana offering e-bike tryouts and Dr Bike between 11am and 3pm. Book a slot.
URL:https://windrushbikeproject.uk/event/bike-gymkhana/
LOCATION:Wychwood Paddocks\, Wychwood Paddocks\, Charlbury\, OX7 3RW
ATTACH;FMTTYPE=image/jpeg:https://windrushbikeproject.uk/wp-content/uploads/2021/08/Charlbury-Kids-Rally-15-Croped.jpg
END:VEVENT
BEGIN:VEVENT
DTSTART;TZID=Europe/London:20210905T100000
DTEND;TZID=Europe/London:20210905T140000
DTSTAMP:20260422T230649
CREATED:20210831T141833Z
LAST-MODIFIED:20210831T142125Z
UID:672-1630836000-1630850400@windrushbikeproject.uk
SUMMARY:Volunteer Open Day
DESCRIPTION:Are you looking to join a fun and friendly team? We always want to hear from people who like to fix bikes\, and since Covid regulations have relaxed we can have more people in the workshop. We also need people who would like to front the workshop (taking bookings\, chatting to customers\, answering the phone)\, help at Junior Wheels for All on a Saturday\, and lead bike rides. Come along to our Open Day on Sunday 5th September 10-2pm\, have a workshop tour and meet current volunteers and staff.
URL:https://windrushbikeproject.uk/event/volunteer-open-day/
LOCATION:Workshop\, 152B Corn Street\, Witney\, OX28 6BY\, United Kingdom
ATTACH;FMTTYPE=image/jpeg:https://windrushbikeproject.uk/wp-content/uploads/2021/03/CornStreet3.jpg
ORGANIZER;CN="Brigitte":MAILTO:admin@windrushbikeproject.uk
END:VEVENT
END:VCALENDAR